BEGIN:VCALENDAR
VERSION:2.0
PRODID:-//ChamberMaster//Event Calendar 2.0//EN
METHOD:PUBLISH
X-PUBLISHED-TTL:P3D
REFRESH-INTERVAL:P3D
CALSCALE:GREGORIAN
BEGIN:VEVENT
DTSTART;VALUE=DATE:20210208
DTEND;VALUE=DATE:20210209
TRANSP:TRANSPARENT
X-MICROSOFT-CDO-ALLDAYEVENT:TRUE
SUMMARY:Adult Coed Soccer
DESCRIPTION:GET IN THE GAME\n\nADULT LEAGUE COED SOCCER\n\nGet involved in a community team sport! Stay active\, and try something new! Get moving during an off-season or enjoy a pre-season. \n\nRegistration: February 8th - February 26th\n\nAges 16 & up are encouraged to come sign up and enjoy a fun\, competitive season! \n\nFees: \n\n $250 per team\, each team is allowed up to 12 players.
X-ALT-DESC;FMTTYPE=text/html:<p><strong>GET IN THE GAME</strong></p>\n\n<p><strong>ADULT LEAGUE COED SOCCER</strong></p>\n\n<p>Get involved in a community team sport! Stay active\, and try something new! Get moving during an off-season or enjoy a pre-season<span style="font-size:22px">.&nbsp\;</span></p>\n\n<p>Registration: February 8th - February 26th</p>\n\n<p>Ages 16 &amp\; up are encouraged to come sign up and enjoy a fun\, competitive season!&nbsp\;</p>\n\n<p>Fees:&nbsp\;</p>\n\n<p>&nbsp\;$250 per team\, each team is allowed up to 12 players.&nbsp\;</p>\n
LOCATION:Moultrie YMCA 601 26th Ave SE Moultrie\, GA 31768
UID:e.570.11315
SEQUENCE:3
DTSTAMP:20260424T124728Z
URL:http://business.moultriechamber.com/events/details/adult-coed-soccer-11315
END:VEVENT

END:VCALENDAR
