BEGIN:VCALENDAR
VERSION:2.0
PRODID:-//ChamberMaster//Event Calendar 2.0//EN
METHOD:PUBLISH
X-PUBLISHED-TTL:P3D
REFRESH-INTERVAL:P3D
CALSCALE:GREGORIAN
BEGIN:VEVENT
DTSTART:20210312T210000Z
DTEND:20210312T220000Z
X-MICROSOFT-CDO-ALLDAYEVENT:FALSE
SUMMARY:Acrylic Painting: Gnome Sweet Gnome
DESCRIPTION:Follow along step-by-step with Rio Davies to paint a gnome on canvas.
X-ALT-DESC;FMTTYPE=text/html:Follow along step-by-step with Rio Davies to paint a gnome on canvas.
LOCATION:Colquitt County Arts Center 401 7th Avenue S.W. Moultrie\, GA 31768
UID:e.570.11329
SEQUENCE:3
DTSTAMP:20260424T114454Z
URL:http://business.moultriechamber.com/events/details/acrylic-painting-gnome-sweet-gnome-11329
END:VEVENT

END:VCALENDAR
