BEGIN:VCALENDAR
VERSION:2.0
PRODID:-//ChamberMaster//Event Calendar 2.0//EN
METHOD:PUBLISH
X-PUBLISHED-TTL:P3D
REFRESH-INTERVAL:P3D
CALSCALE:GREGORIAN
BEGIN:VEVENT
DTSTART:20210322T200000Z
DTEND:20210322T210000Z
X-MICROSOFT-CDO-ALLDAYEVENT:FALSE
SUMMARY:Acrylic Painting: Easter Lilly
DESCRIPTION:Follow along step-by-step to paint an Easter Lilly on canvas with acrylic paint. All Ages Instructor Rio Davies
X-ALT-DESC;FMTTYPE=text/html:Follow along step-by-step to paint an Easter Lilly on canvas with acrylic paint. All Ages Instructor Rio Davies
LOCATION:Colquitt County Arts Center 401 7th Avenue S.W. Moultrie\, GA 31768
UID:e.570.11332
SEQUENCE:3
DTSTAMP:20260424T113231Z
URL:http://business.moultriechamber.com/events/details/acrylic-painting-easter-lilly-11332
END:VEVENT

END:VCALENDAR
