BEGIN:VCALENDAR
VERSION:2.0
PRODID:-//ChamberMaster//Event Calendar 2.0//EN
METHOD:PUBLISH
X-PUBLISHED-TTL:P3D
REFRESH-INTERVAL:P3D
CALSCALE:GREGORIAN
BEGIN:VEVENT
DTSTART:20190924T220000Z
DTEND:20190925T003000Z
X-MICROSOFT-CDO-ALLDAYEVENT:FALSE
SUMMARY:Acrylic Paint Night--"Owl Be There"
DESCRIPTION:Acrylic Paint Night -"Owl Be There" Tuesday\, September 24th 6:00 pm   8:30 pm $30 Supplies Provided Instructor Rio Davies This painting will be different each class. Guided instruction step by step on a canvas with acrylic paint. Learn basic painting skills like painting styles\, blending\, making colors\, perspective\, brush technique\, composition and much more. Students are encouraged to paint anything they can imagine but instructions are provided.
X-ALT-DESC;FMTTYPE=text/html:Acrylic Paint Night -&ldquo\;Owl Be There&rdquo\; Tuesday\, September 24th 6:00 pm &ndash\; 8:30 pm $30 Supplies Provided Instructor Rio Davies This painting will be different each class. Guided instruction step by step on a canvas with acrylic paint. Learn basic painting skills like painting styles\, blending\, making colors\, perspective\, brush technique\, composition and much more. Students are encouraged to paint anything they can imagine but instructions are provided.
LOCATION:401 7th Ave. SW
UID:e.570.9634
SEQUENCE:3
DTSTAMP:20260425T115502Z
URL:http://business.moultriechamber.com/events/details/acrylic-paint-night-owl-be-there-9634
END:VEVENT

END:VCALENDAR
