BEGIN:VCALENDAR
VERSION:2.0
PRODID:-//ChamberMaster//Event Calendar 2.0//EN
METHOD:PUBLISH
X-PUBLISHED-TTL:P3D
REFRESH-INTERVAL:P3D
CALSCALE:GREGORIAN
BEGIN:VEVENT
DTSTART:20200223T000000Z
DTEND:20200223T020000Z
X-MICROSOFT-CDO-ALLDAYEVENT:FALSE
SUMMARY:Acoustic Open Mic Night
DESCRIPTION:Calling all musicians for an acoustic set Open Mic Night at the Colquitt County Arts Center.
X-ALT-DESC;FMTTYPE=text/html:Calling all musicians for an acoustic set Open Mic Night at the Colquitt County Arts Center.
LOCATION:Colquitt County Arts Center 401 Seventh Ave SW Moultrie GA
UID:e.570.11141
SEQUENCE:3
DTSTAMP:20260425T040628Z
URL:http://business.moultriechamber.com/events/details/acoustic-open-mic-night-11141
END:VEVENT

END:VCALENDAR
