BEGIN:VCALENDAR
VERSION:2.0
PRODID:-//ChamberMaster//Event Calendar 2.0//EN
METHOD:PUBLISH
X-PUBLISHED-TTL:P3D
REFRESH-INTERVAL:P3D
CALSCALE:GREGORIAN
BEGIN:VEVENT
DTSTART:20190618T130000Z
DTEND:20190618T200000Z
X-MICROSOFT-CDO-ALLDAYEVENT:FALSE
SUMMARY:Accelerate Your Marketing
DESCRIPTION:Hosted by the Small Business Development Center.\n\n\n\nRev up your marketing engine and grow your business!  Accelerate Your Marketing is designed for small business owners and key employees to learn effective marketing skills.\n\n\n\nLearn how to better understand customers\, tactics to reach customers\, create effective marketing messages\, and develop an innovative marketing plan.
X-ALT-DESC;FMTTYPE=text/html:Hosted by the Small Business Development Center.<br />\n<br />\nRev up your marketing engine and grow your business!&nbsp\; Accelerate Your Marketing is designed for small business owners and key employees to learn effective marketing skills.<br />\n<br />\nLearn how to better understand customers\, tactics to reach customers\, create effective marketing messages\, and develop an innovative marketing plan.<br />\n<br />\n&nbsp\;
LOCATION:Southern Regional Technical College 800 Veterans Parkway N Moultrie\, GA 31788
UID:e.570.9556
SEQUENCE:3
DTSTAMP:20260425T140645Z
URL:http://business.moultriechamber.com/events/details/accelerate-your-marketing-9556
END:VEVENT

END:VCALENDAR
