BEGIN:VCALENDAR
VERSION:2.0
PRODID:-//ChamberMaster//Event Calendar 2.0//EN
METHOD:PUBLISH
X-PUBLISHED-TTL:P3D
REFRESH-INTERVAL:P3D
CALSCALE:GREGORIAN
BEGIN:VEVENT
DTSTART:20210713T150000Z
DTEND:20210713T160000Z
X-MICROSOFT-CDO-ALLDAYEVENT:FALSE
SUMMARY:ABS’s of Drumming
DESCRIPTION:Professor Dwight Baldwin will have you dancing\, drumming\, and singing as he teaches you the ABCs of Drumming\, including percussion\, basic rhythm\, and drum patterns.
X-ALT-DESC;FMTTYPE=text/html:Professor Dwight Baldwin will have you dancing\, drumming\, and singing as he teaches you the ABCs of Drumming\, including percussion\, basic rhythm\, and drum patterns.
LOCATION:Bert Harsh Park next door to the Moultrie Library @ 204 5th St SE\, Moultrie\, GA 31768.
UID:e.570.11388
SEQUENCE:3
DTSTAMP:20260424T065201Z
URL:http://business.moultriechamber.com/events/details/abs-s-of-drumming-11388
END:VEVENT

END:VCALENDAR
