BEGIN:VCALENDAR
VERSION:2.0
PRODID:-//ChamberMaster//Event Calendar 2.0//EN
METHOD:PUBLISH
X-PUBLISHED-TTL:P3D
REFRESH-INTERVAL:P3D
CALSCALE:GREGORIAN
BEGIN:VEVENT
DTSTART:20201016T220000Z
DTEND:20201017T010000Z
X-MICROSOFT-CDO-ALLDAYEVENT:FALSE
SUMMARY:A Night of Recovery
DESCRIPTION:Community event with free live entertainment provided by Seventh Day Slumber\, and free food provided by Alliance Moultrie\, in support of suicide prevention and addiction recovery.
X-ALT-DESC;FMTTYPE=text/html:Community event with free live entertainment provided by Seventh Day Slumber\, and free food provided by Alliance Moultrie\, in support of suicide prevention and addiction recovery.
LOCATION:The stage on the square in the heart of Moultrie\, GA
UID:e.570.11188
SEQUENCE:3
DTSTAMP:20260424T175447Z
URL:http://business.moultriechamber.com/events/details/a-night-of-recovery-11188
END:VEVENT

END:VCALENDAR
