BEGIN:VCALENDAR
VERSION:2.0
PRODID:-//ChamberMaster//Event Calendar 2.0//EN
METHOD:PUBLISH
X-PUBLISHED-TTL:P3D
REFRESH-INTERVAL:P3D
CALSCALE:GREGORIAN
BEGIN:VEVENT
DTSTART:20211016T200000Z
DTEND:20211017T010000Z
X-MICROSOFT-CDO-ALLDAYEVENT:FALSE
SUMMARY:A Night of Recovery
DESCRIPTION:Dem Boyz will be hosting a Corn Hole at 4pm. Concert will start at 6pm. Free plate of food will be provided while supplies lasts by Alliance Moultrie
X-ALT-DESC;FMTTYPE=text/html:Dem Boyz will be hosting a Corn Hole at 4pm. Concert will start at 6pm. Free plate of food will be provided while supplies lasts by Alliance Moultrie
LOCATION:Downtown on the Square
UID:e.570.11430
SEQUENCE:3
DTSTAMP:20260424T031521Z
URL:http://business.moultriechamber.com/events/details/a-night-of-recovery-10-16-2021-11430
END:VEVENT

END:VCALENDAR
