BEGIN:VCALENDAR
VERSION:2.0
PRODID:-//ChamberMaster//Event Calendar 2.0//EN
METHOD:PUBLISH
X-PUBLISHED-TTL:P3D
REFRESH-INTERVAL:P3D
CALSCALE:GREGORIAN
BEGIN:VEVENT
DTSTART:20190720T220000Z
DTEND:20190721T010000Z
X-MICROSOFT-CDO-ALLDAYEVENT:FALSE
SUMMARY:A Midsummer Night's Sing: Dueling Pianos
DESCRIPTION:Join the Southern Regional Technical College Foundation at our annual Moultrie area fundraiser for student scholarships! Featuring the wildly talented Andrews Brothers\, each song played throughout the evening is requested by guests\, making the audience a part of the show. All song requests are in the form of donations to SRTC's Foundation\, which annually provides over $100\,000 in student scholarships. More information\, tickets\, and sponsorship opportunities at southernregional.edu/duelingpianos
X-ALT-DESC;FMTTYPE=text/html:Join the Southern Regional Technical College Foundation at our annual Moultrie area fundraiser for student scholarships! Featuring the wildly talented Andrews Brothers\, each song played throughout the evening is requested by guests\, making the audience a part of the show. All song requests are in the form of donations to SRTC&rsquo\;s Foundation\, which annually provides over $100\,000 in student scholarships. More information\, tickets\, and sponsorship opportunities at southernregional.edu/duelingpianos
LOCATION:SRTC - Moultrie Campus 800 Veterans Parkway North Moultrie\, GA\, 31788
UID:e.570.9522
SEQUENCE:3
DTSTAMP:20260425T132029Z
URL:http://business.moultriechamber.com/events/details/a-midsummer-night-s-sing-dueling-pianos-9522
END:VEVENT

END:VCALENDAR
