BEGIN:VCALENDAR
VERSION:2.0
PRODID:-//ChamberMaster//Event Calendar 2.0//EN
METHOD:PUBLISH
X-PUBLISHED-TTL:P3D
REFRESH-INTERVAL:P3D
CALSCALE:GREGORIAN
BEGIN:VEVENT
DTSTART:20180911T153000Z
DTEND:20180911T163000Z
X-MICROSOFT-CDO-ALLDAYEVENT:FALSE
SUMMARY:2nd Tuesday Brown Bag Book Club
DESCRIPTION:Every month\, the group will have a theme\, and members are expected (not required\, of course!) to read a book that fits that theme. We don't all read the same book. It's all right if you don't read within that month's theme\, just come and share what you have read. Bring your own lunch or snack.
X-ALT-DESC;FMTTYPE=text/html:Every month\, the group will have a theme\, and members are expected (not required\, of course!) to read a book that fits that theme. We don&rsquo\;t all read the same book. It&rsquo\;s all right if you don&rsquo\;t read within that month&rsquo\;s theme\, just come and share what you have read. Bring your own lunch or snack.
LOCATION:Colquitt County Arts Center\, 401 7th Ave SW\, Moultrie
UID:e.570.9393
SEQUENCE:3
DTSTAMP:20260426T021521Z
URL:http://business.moultriechamber.com/events/details/2nd-tuesday-brown-bag-book-club-09-11-2018-9393
END:VEVENT

END:VCALENDAR
