BEGIN:VCALENDAR
VERSION:2.0
PRODID:-//ChamberMaster//Event Calendar 2.0//EN
METHOD:PUBLISH
X-PUBLISHED-TTL:P3D
REFRESH-INTERVAL:P3D
CALSCALE:GREGORIAN
BEGIN:VEVENT
DTSTART:20211109T160000Z
DTEND:20211109T170000Z
X-MICROSOFT-CDO-ALLDAYEVENT:FALSE
SUMMARY:2nd Tuesday Book Club
DESCRIPTION:The Moultrie-Colquitt County Library's Second Tuesday Brown Bag Book Club meets every month. The group reads selections based on a central theme. Members are encouraged (not required\, of course!) to read a book that fits that theme. The theme for November is "It's the Most Wonderful Time of the Year!" We do not all read the same book. It is all right if you do not read within that month's theme\; just come and share what you have read. We are always interested in a good book!
X-ALT-DESC;FMTTYPE=text/html:The Moultrie-Colquitt County Library&rsquo\;s Second Tuesday Brown Bag Book Club meets every month. The group reads selections based on a central theme. Members are encouraged (not required\, of course!) to read a book that fits that theme. The theme for November is &quot\;It&#39\;s the Most Wonderful Time of the Year!&quot\; We do not all read the same book. It is all right if you do not read within that month&rsquo\;s theme\; just come and share what you have read. We are always interested in a good book!
LOCATION:Moultrie- Colquitt County Library 204 5th St.\, SW\, Moultrie\, GA
UID:e.570.11402
SEQUENCE:3
DTSTAMP:20260424T015141Z
URL:http://business.moultriechamber.com/events/details/2nd-tuesday-book-club-11-09-2021-11402
END:VEVENT

END:VCALENDAR
