BEGIN:VCALENDAR
VERSION:2.0
PRODID:-//ChamberMaster//Event Calendar 2.0//EN
METHOD:PUBLISH
X-PUBLISHED-TTL:P3D
REFRESH-INTERVAL:P3D
CALSCALE:GREGORIAN
BEGIN:VEVENT
DTSTART:20210914T150000Z
DTEND:20210914T160000Z
X-MICROSOFT-CDO-ALLDAYEVENT:FALSE
SUMMARY:2nd Tuesday Book Club
DESCRIPTION:The Moultrie-Colquitt County Library's Second Tuesday Brown Bag Book Club meets every month. The group reads selections based on a central theme. Members are encouraged (not required\, of course!) to read a book that fits that theme. The theme for September is "It's All in a Name\, or on This Case a Number." We do not all read the same book. It is all right if you do not read within that month's theme\; just come and share what you have read. We are always interested in a good book!
X-ALT-DESC;FMTTYPE=text/html:The Moultrie-Colquitt County Library&rsquo\;s Second Tuesday Brown Bag Book Club meets every month. The group reads selections based on a central theme. Members are encouraged (not required\, of course!) to read a book that fits that theme. The theme for September is &quot\;It&#39\;s All in a Name\, or on This Case a Number.&quot\; We do not all read the same book. It is all right if you do not read within that month&rsquo\;s theme\; just come and share what you have read. We are always interested in a good book!
LOCATION:Moultrie- Colquitt County Library 204 5th St.\, SW\, Moultrie\, GA
UID:e.570.11394
SEQUENCE:3
DTSTAMP:20260424T043018Z
URL:http://business.moultriechamber.com/events/details/2nd-tuesday-book-club-09-14-2021-11394
END:VEVENT

END:VCALENDAR
