BEGIN:VCALENDAR
VERSION:2.0
PRODID:-//ChamberMaster//Event Calendar 2.0//EN
METHOD:PUBLISH
X-PUBLISHED-TTL:P3D
REFRESH-INTERVAL:P3D
CALSCALE:GREGORIAN
BEGIN:VEVENT
DTSTART:20190425T150000Z
DTEND:20190425T220000Z
X-MICROSOFT-CDO-ALLDAYEVENT:FALSE
SUMMARY:22nd Annual Chamber of Commerce Golf Tournament
DESCRIPTION:Join us for the 22nd Annual Chamber of Commerce Golf Tournament!\n\nLocated at the Sunset Country Club\n\n\n\nRegistration is from 11am-1pm and tee off begins at 1 pm.\n\n\n\n$600 team registration (4 players)\n\n$150 individual players\n\n\n\nRegistration deadline is April 17th\n\n\n\nFor more information regarding registration and sponsorship opportunities contact Jennifer Jarvis at jjarvis@moultriechamber.com or call (229) 985-2131
X-ALT-DESC;FMTTYPE=text/html:<span>Join us for the 22nd Annual Chamber of Commerce Golf Tournament!<br />\nLocated at the Sunset Country Club<br />\n<br />\nRegistration is from 11am-1pm and tee off begins at 1 pm.<br />\n<br />\n$600 team registration (4 players)<br />\n$150 individual players<br />\n<br />\nRegistration deadline is April 17th<br />\n<br />\nFor more information regarding registration and sponsorship opportunities contact Jennifer Jarvis at jjarvis@moultriechamber.com or call (229) 985-2131</span>
LOCATION:Sunset Country Club- 2730 South Main Street\, Moultrie Ga 31768
UID:e.570.9542
SEQUENCE:3
DTSTAMP:20260425T165244Z
URL:http://business.moultriechamber.com/events/details/22nd-annual-chamber-of-commerce-golf-tournament-9542
END:VEVENT

END:VCALENDAR
