BEGIN:VCALENDAR
VERSION:2.0
PRODID:-//ChamberMaster//Event Calendar 2.0//EN
METHOD:PUBLISH
X-PUBLISHED-TTL:P3D
REFRESH-INTERVAL:P3D
CALSCALE:GREGORIAN
BEGIN:VEVENT
DTSTART:20180830T160000Z
DTEND:20180830T210000Z
X-MICROSOFT-CDO-ALLDAYEVENT:FALSE
SUMMARY:22nd Annual Bud Vereen Memorial Golf Tournament
DESCRIPTION:All proceeds from this tournament will \n\nbenefit the YMCA Youth Sports Program. \n\n \n\nYou can participate in many ways:\n\n \n\nIndividual Player: $150\n\nHole Sponsor: $150\n\nTeam Sponsor: $600\n\nCorporate Sponsor: $1\,100\n\n \n\nFor Players\n\nCheck in/Lunch: 12:00 pm\n\nShot Gun Start: 1:00 pm\n\nFormat: 4 Person Scramble (Best Ball)\n\n\n\nMore information coming soon.
X-ALT-DESC;FMTTYPE=text/html:<p>All proceeds from this tournament will&nbsp\;</p>\n\n<p>benefit the YMCA Youth Sports Program.&nbsp\;</p>\n\n<p>&nbsp\;</p>\n\n<p>You can participate in many ways:</p>\n\n<p>&nbsp\;</p>\n\n<p>Individual Player: $150</p>\n\n<p>Hole Sponsor: $150</p>\n\n<p>Team Sponsor: $600</p>\n\n<p>Corporate Sponsor: $1\,100</p>\n\n<p>&nbsp\;</p>\n\n<p><u>For Players</u></p>\n\n<p>Check in/Lunch: 12:00 pm</p>\n\n<p>Shot Gun Start: 1:00 pm</p>\n\n<p>Format: 4 Person Scramble (Best Ball)<br />\n<br />\nMore information coming soon.</p>\n
LOCATION:Sunset Country Club
UID:e.570.9272
SEQUENCE:3
DTSTAMP:20260426T032503Z
URL:http://business.moultriechamber.com/events/details/22nd-annual-bud-vereen-memorial-golf-tournament-9272
END:VEVENT

END:VCALENDAR
