BEGIN:VCALENDAR
VERSION:2.0
PRODID:-//ChamberMaster//Event Calendar 2.0//EN
METHOD:PUBLISH
X-PUBLISHED-TTL:P3D
REFRESH-INTERVAL:P3D
CALSCALE:GREGORIAN
BEGIN:VEVENT
DTSTART:20200222T120000Z
DTEND:20200222T150000Z
X-MICROSOFT-CDO-ALLDAYEVENT:FALSE
SUMMARY:2020 Doctor Dash
DESCRIPTION:Join us for the Doctor Dash 5K run and 1 mile Fun Run! Check-in is at 7 AM and the 5K begins at 8 AM\, followed by the Fun Run at 9 AM. Male and female overall winners for both races will receive an award. Awards for 1st\, 2nd\, and 3rd place for each age group will also be awarded.
X-ALT-DESC;FMTTYPE=text/html:Join us for the Doctor Dash 5K run and 1 mile Fun Run! Check-in is at 7 AM and the 5K begins at 8 AM\, followed by the Fun Run at 9 AM. Male and female overall winners for both races will receive an award. Awards for 1st\, 2nd\, and 3rd place for each age group will also be awarded.
LOCATION:Georgia South Family Medicine Residency Center
UID:e.570.11137
SEQUENCE:3
DTSTAMP:20260425T040447Z
URL:http://business.moultriechamber.com/events/details/2020-doctor-dash-11137
END:VEVENT

END:VCALENDAR
