BEGIN:VCALENDAR
VERSION:2.0
PRODID:-//ChamberMaster//Event Calendar 2.0//EN
METHOD:PUBLISH
X-PUBLISHED-TTL:P3D
REFRESH-INTERVAL:P3D
CALSCALE:GREGORIAN
BEGIN:VEVENT
DTSTART:20180926T120000Z
DTEND:20180929T170000Z
X-MICROSOFT-CDO-ALLDAYEVENT:FALSE
SUMMARY:2018 Georgia Golden Olympics
DESCRIPTION:36th Georgia Golden Olympics Event. All men and women 50 and over are invited to participate in this event in Warner Robbins\, Georgia. This year we have 9 participants from MCCPRA. Lets wish them luck as they compete with others around the state.
X-ALT-DESC;FMTTYPE=text/html:36th Georgia Golden Olympics Event. All men and women 50 and over are invited to participate in this event in Warner Robbins\, Georgia. This year we have 9 participants from MCCPRA. Lets wish them luck as they compete with others around the state.
LOCATION:Warner Robbins\, GA
UID:e.570.9361
SEQUENCE:3
DTSTAMP:20260426T032412Z
URL:http://business.moultriechamber.com/events/details/2018-georgia-golden-olympics-9361
END:VEVENT

END:VCALENDAR
