BEGIN:VCALENDAR
VERSION:2.0
PRODID:-//ChamberMaster//Event Calendar 2.0//EN
METHOD:PUBLISH
X-PUBLISHED-TTL:P3D
REFRESH-INTERVAL:P3D
CALSCALE:GREGORIAN
BEGIN:VEVENT
DTSTART:20210209T230000Z
DTEND:20210210T010000Z
X-MICROSOFT-CDO-ALLDAYEVENT:FALSE
SUMMARY:2 Day Free Open Studio: Ceramics
DESCRIPTION:Participate in a special free open studio all about ceramics! On the first day\, you will hand-build up to 3 clay pieces (vase\, tumbler\, etc.) and on the second day\, you will glaze your work. Items will be available for pick up within two weeks after the workshop's completion. Must register in advance. No walk-ins. Limit 12 participants. Age 16+ FREE All Supplies Provided February 9 from 6:00 pm   8:00 pm February 23 from 6:00 pm   8:00 pm Instructor Ashlee Parrish. Funded by Georgia Council on Developmental Disabilities Masks are required when the instructor and students are in close proximity for guided instruction.
X-ALT-DESC;FMTTYPE=text/html:Participate in a special free open studio all about ceramics! On the first day\, you will hand-build up to 3 clay pieces (vase\, tumbler\, etc.) and on the second day\, you will glaze your work. Items will be available for pick up within two weeks after the workshop&rsquo\;s completion. Must register in advance. No walk-ins. Limit 12 participants. Age 16+ FREE All Supplies Provided February 9 from 6:00 pm &ndash\; 8:00 pm February 23 from 6:00 pm &ndash\; 8:00 pm Instructor Ashlee Parrish. Funded by Georgia Council on Developmental Disabilities Masks are required when the instructor and students are in close proximity for guided instruction.
LOCATION:Colquitt County Arts Center 401 7th Avenue S.W. Moultrie\, GA 31768
UID:e.570.11295
SEQUENCE:3
DTSTAMP:20260424T124203Z
URL:http://business.moultriechamber.com/events/details/2-day-free-open-studio-ceramics-11295
END:VEVENT

END:VCALENDAR
