BEGIN:VCALENDAR
VERSION:2.0
PRODID:-//ChamberMaster//Event Calendar 2.0//EN
METHOD:PUBLISH
X-PUBLISHED-TTL:P3D
REFRESH-INTERVAL:P3D
CALSCALE:GREGORIAN
BEGIN:VEVENT
DTSTART:20180914T230000Z
DTEND:20180915T010000Z
X-MICROSOFT-CDO-ALLDAYEVENT:FALSE
SUMMARY:1978 Moultrie High School 40th Reunion
DESCRIPTION:Visit the website www.mhs1978.org or the facebook page at Moultrie High School - Class of 1978 for more details!
X-ALT-DESC;FMTTYPE=text/html:Visit the website www.mhs1978.org or the facebook page at Moultrie High School - Class of 1978 for more details!
LOCATION:Barber Farm
UID:e.570.9254
SEQUENCE:3
DTSTAMP:20260426T021025Z
URL:http://business.moultriechamber.com/events/details/1978-moultrie-high-school-40th-reunion-9254
END:VEVENT

END:VCALENDAR
