BEGIN:VCALENDAR
VERSION:2.0
PRODID:-//ChamberMaster//Event Calendar 2.0//EN
METHOD:PUBLISH
X-PUBLISHED-TTL:P3D
REFRESH-INTERVAL:P3D
CALSCALE:GREGORIAN
BEGIN:VEVENT
DTSTART:20180915T230000Z
DTEND:20180916T010000Z
X-MICROSOFT-CDO-ALLDAYEVENT:FALSE
SUMMARY:1978 Moultrie High School 40th Reunion
DESCRIPTION:Visit www.mhs1978.org or the Facebook page Moultrie High School - Class of 1978 for more details!
X-ALT-DESC;FMTTYPE=text/html:Visit www.mhs1978.org or the Facebook page Moultrie High School - Class of 1978 for more details!
LOCATION:Sunset Country Club
UID:e.570.9255
SEQUENCE:3
DTSTAMP:20260426T032625Z
URL:http://business.moultriechamber.com/events/details/1978-moultrie-high-school-40th-reunion-09-15-2018-9255
END:VEVENT

END:VCALENDAR
