BEGIN:VCALENDAR
VERSION:2.0
PRODID:-//ChamberMaster//Event Calendar 2.0//EN
METHOD:PUBLISH
X-PUBLISHED-TTL:P3D
REFRESH-INTERVAL:P3D
CALSCALE:GREGORIAN
BEGIN:VEVENT
DTSTART:20190129T233000Z
DTEND:20190130T020000Z
X-MICROSOFT-CDO-ALLDAYEVENT:FALSE
SUMMARY:109th Annual Chamber of Commerce Banquet & Community Awards Presentation
DESCRIPTION:109th Annual Chamber of Commerce Banquet & Community Awards Presentation
X-ALT-DESC;FMTTYPE=text/html:109th Annual Chamber of Commerce Banquet &amp\; Community Awards Presentation
LOCATION:TBD
UID:e.570.9402
SEQUENCE:3
DTSTAMP:20260425T204641Z
URL:http://business.moultriechamber.com/events/details/109th-annual-chamber-of-commerce-banquet-community-awards-presentation-9402
END:VEVENT

END:VCALENDAR
